BEGIN:VCALENDAR
VERSION:2.0
PRODID:-//Black Label Grading - ECPv6.11.2.1//NONSGML v1.0//EN
CALSCALE:GREGORIAN
METHOD:PUBLISH
X-WR-CALNAME:Black Label Grading
X-ORIGINAL-URL:https://blacklabelgrading.com
X-WR-CALDESC:Events for Black Label Grading
REFRESH-INTERVAL;VALUE=DURATION:PT1H
X-Robots-Tag:noindex
X-PUBLISHED-TTL:PT1H
BEGIN:VTIMEZONE
TZID:UTC
BEGIN:STANDARD
TZOFFSETFROM:+0000
TZOFFSETTO:+0000
TZNAME:UTC
DTSTART:20260101T000000
END:STANDARD
END:VTIMEZONE
BEGIN:VEVENT
DTSTART;TZID=UTC:20260321T093000
DTEND;TZID=UTC:20260321T160000
DTSTAMP:20260421T084006
CREATED:20260117T183424Z
LAST-MODIFIED:20260117T183424Z
UID:6525-1774085400-1774108800@blacklabelgrading.com
SUMMARY:Cardmania Plymouth
DESCRIPTION:More than just a card show. Cardmania creates experiences for every kind of trading card fan. With dozens of dedicated vendors in attendance\, you’ll be surrounded by a vibrant marketplace packed with cards\, collectables and accessories. It’s your chance to dive into the trading card scene\, meet fellow collectors and score incredible finds.
URL:https://blacklabelgrading.com/event/cardmania-plymouth/
LOCATION:Life Centre Plymouth\, 40 Mayflower Dr\, Plymouth PL2 3DG\, United Kingdom
ATTACH;FMTTYPE=image/png:https://blacklabelgrading.com/wp-content/uploads/2026/01/Screenshot-2026-01-17-183220.png
END:VEVENT
BEGIN:VEVENT
DTSTART;TZID=UTC:20260321T100000
DTEND;TZID=UTC:20260321T170000
DTSTAMP:20260421T084006
CREATED:20260117T183744Z
LAST-MODIFIED:20260117T183744Z
UID:6528-1774087200-1774112400@blacklabelgrading.com
SUMMARY:Birmingham Card Show
DESCRIPTION:If you’re looking for a card show or expo to attend in the Midlands this is the event for you! The event will host 200 vendor tables selling a mix of Pokémon\, Magic the Gathering\, Yu-Gi-Oh\, Dragon Ball\, One Piece\, Lorcana\, Sports and accessories.
URL:https://blacklabelgrading.com/event/birmingham-card-show-2/
LOCATION:The New Bingley Hall\, 1 Hockley Circus\, Birmingham B18 5PP\, UK\, Birmingham\, United Kingdom
ATTACH;FMTTYPE=image/png:https://blacklabelgrading.com/wp-content/uploads/2026/01/Screenshot-2026-01-17-183547.png
END:VEVENT
END:VCALENDAR